BEGIN:VCALENDAR
VERSION:2.0
METHOD:REQUEST
PRODID: -//VET Campus
URL:https://training.peer.com.au/training-courses/operations/peer-pre-enrolment-sessions-for-new-apprentices/303715.cfm?ics
BEGIN:VEVENT
UID:233712.TRAINING.PEER.COM.AU
ORGANIZER;CN=PEER:MAILTO:bookings@peer.com.au
DTSTAMP:20260422T235134
DTSTART;TZID=Australia/Adelaide:20260716T080000
DTEND;TZID=Australia/Adelaide:20260716T130000
SUMMARY:O-101 Induction at PEER Albert Park - No Check in
LOCATION:PEER Albert Park - No Check in: 1042 Port Road, Albert Park, SA 5014
DESCRIPTION:PEER Pre-Enrolment Sessions for New Apprentices at PEER Albert Park - No Check in - 8:00AM to 1:00PM
SEQUENCE:0
PRIORITY:1
TRANSP:OPAQUE
CLASS:PUBLIC
BEGIN:VALARM
TRIGGER:-PT30M
ACTION:DISPLAY
DESCRIPTION:Reminder
END:VALARM
END:VEVENT
END:VCALENDAR
